BEGIN:VCALENDAR
VERSION:2.0
PRODID:-//ORCA - Alaska Off-Road Cycling Alliance - ECPv6.15.20//NONSGML v1.0//EN
CALSCALE:GREGORIAN
METHOD:PUBLISH
X-WR-CALNAME:ORCA - Alaska Off-Road Cycling Alliance
X-ORIGINAL-URL:https://orca.bike
X-WR-CALDESC:Events for ORCA - Alaska Off-Road Cycling Alliance
REFRESH-INTERVAL;VALUE=DURATION:PT1H
X-Robots-Tag:noindex
X-PUBLISHED-TTL:PT1H
BEGIN:VTIMEZONE
TZID:America/Anchorage
BEGIN:DAYLIGHT
TZOFFSETFROM:-0900
TZOFFSETTO:-0800
TZNAME:AKDT
DTSTART:20250309T110000
END:DAYLIGHT
BEGIN:STANDARD
TZOFFSETFROM:-0800
TZOFFSETTO:-0900
TZNAME:AKST
DTSTART:20251102T100000
END:STANDARD
BEGIN:DAYLIGHT
TZOFFSETFROM:-0900
TZOFFSETTO:-0800
TZNAME:AKDT
DTSTART:20260308T110000
END:DAYLIGHT
BEGIN:STANDARD
TZOFFSETFROM:-0800
TZOFFSETTO:-0900
TZNAME:AKST
DTSTART:20261101T100000
END:STANDARD
BEGIN:DAYLIGHT
TZOFFSETFROM:-0900
TZOFFSETTO:-0800
TZNAME:AKDT
DTSTART:20270314T110000
END:DAYLIGHT
BEGIN:STANDARD
TZOFFSETFROM:-0800
TZOFFSETTO:-0900
TZNAME:AKST
DTSTART:20271107T100000
END:STANDARD
END:VTIMEZONE
BEGIN:VEVENT
DTSTART;TZID=America/Anchorage:20260419T100000
DTEND;TZID=America/Anchorage:20260419T130000
DTSTAMP:20260419T113424
CREATED:20260417T000908Z
LAST-MODIFIED:20260417T000908Z
UID:4844-1776592800-1776603600@orca.bike
SUMMARY:Sunday Brunch Ride
DESCRIPTION:See ride page: <a href="https://www.fairbankscycleclub.org/lazy-ish-sunday-road-rides/ \n” target=”_blank” title=”https://www.fairbankscycleclub.org/lazy-ish-sunday-road-rides/ \n“>https://www.fairbankscycleclub.org/lazy-ish-sunday-road-rides/
URL:https://orca.bike/event/sunday-brunch-ride/
LOCATION:Lulu’s Bread & Bagels
ORGANIZER;CN="Fairbanks Cycle Club":MAILTO:noreply@facebookmail.com
END:VEVENT
END:VCALENDAR