BEGIN:VCALENDAR
VERSION:2.0
PRODID:-//ORCA - Alaska Off-Road Cycling Alliance - ECPv6.15.20//NONSGML v1.0//EN
CALSCALE:GREGORIAN
METHOD:PUBLISH
X-ORIGINAL-URL:https://orca.bike
X-WR-CALDESC:Events for ORCA - Alaska Off-Road Cycling Alliance
REFRESH-INTERVAL;VALUE=DURATION:PT1H
X-Robots-Tag:noindex
X-PUBLISHED-TTL:PT1H
BEGIN:VTIMEZONE
TZID:America/Anchorage
BEGIN:DAYLIGHT
TZOFFSETFROM:-0900
TZOFFSETTO:-0800
TZNAME:AKDT
DTSTART:20240310T110000
END:DAYLIGHT
BEGIN:STANDARD
TZOFFSETFROM:-0800
TZOFFSETTO:-0900
TZNAME:AKST
DTSTART:20241103T100000
END:STANDARD
BEGIN:DAYLIGHT
TZOFFSETFROM:-0900
TZOFFSETTO:-0800
TZNAME:AKDT
DTSTART:20250309T110000
END:DAYLIGHT
BEGIN:STANDARD
TZOFFSETFROM:-0800
TZOFFSETTO:-0900
TZNAME:AKST
DTSTART:20251102T100000
END:STANDARD
BEGIN:DAYLIGHT
TZOFFSETFROM:-0900
TZOFFSETTO:-0800
TZNAME:AKDT
DTSTART:20260308T110000
END:DAYLIGHT
BEGIN:STANDARD
TZOFFSETFROM:-0800
TZOFFSETTO:-0900
TZNAME:AKST
DTSTART:20261101T100000
END:STANDARD
END:VTIMEZONE
BEGIN:VEVENT
DTSTART;TZID=America/Anchorage:20250701T183000
DTEND;TZID=America/Anchorage:20250701T183000
DTSTAMP:20260423T061440
CREATED:20250625T191943Z
LAST-MODIFIED:20250701T192021Z
UID:2436-1751394600-1751394600@orca.bike
SUMMARY:STA Trail Crew to work on Brown Bear
DESCRIPTION:Join STA for trail crewTuesday\, July 1st at 6:30pm at top of Brown Bear on Multi Use Trail at Hillside to work on the Brown Bear trail. \nVisit our Trail Crew page to sign your waiver and review the guidelines for work parties: https://singletrackadvocates.org/trail-crew/ \nAppropriate Gear and Clothing:\n• Bring work gloves\n• Bring water\n• Wear long pants\n• Wear work boots if possible\n• STA will provide tools and helmets (you may wear your bike helmet if you want). Expect to do some walking to get to the work site. \nDon’t forget to renew your annual STA membership to support the mission to preserve\, maintain\, and create singletrack trails in Anchorage! \nVisit our website: https://singletrackadvocates.org/ \nThanks to all of the volunteers who have been showing up this year!
URL:https://orca.bike/event/sta-trail-crew-to-work-on-brown-bear/
LOCATION:Meet at top of Brown Bear on Multi Use Trail
CATEGORIES:Trail Work
ATTACH;FMTTYPE=image/jpeg:https://orca.bike/wp-content/uploads/2025/06/2436_image_513509646_1128191199355456_447845004606847952_n.jpg
END:VEVENT
BEGIN:VEVENT
DTSTART;TZID=America/Anchorage:20250709T183000
DTEND;TZID=America/Anchorage:20250709T183000
DTSTAMP:20260423T061440
CREATED:20250615T224654Z
LAST-MODIFIED:20250709T192003Z
UID:2414-1752085800-1752085800@orca.bike
SUMMARY:STA Trail Crew - Meet at Abbott Parking Lot
DESCRIPTION:Join STA for trail crew on Wednesdays throughout the summer. Meet at the Abbott Parking lot to work on the Service Singletrack trail. \nVisit our Trail Crew page to sign your waiver and review the guidelines for work parties: https://singletrackadvocates.org/trail-crew/\nAppropriate Gear and Clothing:\n• Bring work gloves\n• Bring water\n• Wear long pants\n• Wear work boots if possible\n• STA will provide tools and helmets (you may wear your bike helmet if you want). Expect to do some walking to get to the work site. \nDon’t forget to renew your annual STA membership to support the mission to preserve\, maintain\, and create singletrack trails in Anchorage! \nVisit our website: https://singletrackadvocates.org/ \nThanks to all of the volunteers who have been showing up this year!
URL:https://orca.bike/event/sta-trail-crew-location-tba-5/
LOCATION:Anchorage\, Alaska
CATEGORIES:Trail Work
ATTACH;FMTTYPE=image/jpeg:https://orca.bike/wp-content/uploads/2025/06/2414_image_507666605_122205287972254135_5744245425567938014_n.jpg
END:VEVENT
BEGIN:VEVENT
DTSTART;TZID=America/Anchorage:20250719T083000
DTEND;TZID=America/Anchorage:20250719T143000
DTSTAMP:20260423T061440
CREATED:20250529T195018Z
LAST-MODIFIED:20250719T191947Z
UID:2339-1752913800-1752935400@orca.bike
SUMMARY:Rabbit Lake Trail Maintenance
DESCRIPTION:Registration for this event is now closed.  \nVolunteers will meet at the Rabbit Lake trailhead at the top of Canyon Road in Chugach State Park. Volunteer work will include improving drainage and brushing. \nFor full event details and to RSVP\, visit: https://www.alaska-trails.org/event-details/rabbit-lake \nThis event is sponsored by Chugach Park Fund.
URL:https://orca.bike/event/rabbit-lake-trail-maintenance/
LOCATION:Rabbit Lake Trailhead\, Anchorage\, AK\, US
CATEGORIES:Trail Work
ATTACH;FMTTYPE=image/jpeg:https://orca.bike/wp-content/uploads/2025/05/2339_image_494805890_1184085033728398_3982639718066220201_n.jpg
END:VEVENT
BEGIN:VEVENT
DTSTART;TZID=America/Anchorage:20250723T183000
DTEND;TZID=America/Anchorage:20250723T183000
DTSTAMP:20260423T061440
CREATED:20250615T224652Z
LAST-MODIFIED:20250723T192007Z
UID:2412-1753295400-1753295400@orca.bike
SUMMARY:STA Trail Crew - Meet at Abbott Parking Lot
DESCRIPTION:Join STA for trail crew on Wednesdays throughout the summer. Meet at the Abbott Rd parking lot. \nVisit our Trail Crew page to sign your waiver and review the guidelines for work parties: https://singletrackadvocates.org/trail-crew/\nAppropriate Gear and Clothing:\n• Bring work gloves\n• Bring water\n• Wear long pants\n• Wear work boots if possible\n• STA will provide tools and helmets (you may wear your bike helmet if you want). Expect to do some walking to get to the work site. \nDon’t forget to renew your annual STA membership to support the mission to preserve\, maintain\, and create singletrack trails in Anchorage! \nVisit our website: https://singletrackadvocates.org/ \nThanks to all of the volunteers who have been showing up this year!
URL:https://orca.bike/event/sta-trail-crew-location-tba-4/
LOCATION:Anchorage\, Alaska
CATEGORIES:Trail Work
ATTACH;FMTTYPE=image/jpeg:https://orca.bike/wp-content/uploads/2025/06/2412_image_507648909_122205288056254135_1765170276154396832_n.jpg
END:VEVENT
BEGIN:VEVENT
DTSTART;TZID=America/Anchorage:20250730T183000
DTEND;TZID=America/Anchorage:20250730T183000
DTSTAMP:20260423T061440
CREATED:20250615T224651Z
LAST-MODIFIED:20250728T191942Z
UID:2410-1753900200-1753900200@orca.bike
SUMMARY:STA Trail Crew - Location TBA
DESCRIPTION:Join STA for trail crew on Wednesdays throughout the summer. Check our Facebook or Instagram pages for this week’s location! \nVisit our Trail Crew page to sign your waiver and review the guidelines for work parties: https://singletrackadvocates.org/trail-crew/\nAppropriate Gear and Clothing:\n• Bring work gloves\n• Bring water\n• Wear long pants\n• Wear work boots if possible\n• STA will provide tools and helmets (you may wear your bike helmet if you want). Expect to do some walking to get to the work site. \nDon’t forget to renew your annual STA membership to support the mission to preserve\, maintain\, and create singletrack trails in Anchorage! \nVisit our website: https://singletrackadvocates.org/ \nThanks to all of the volunteers who have been showing up this year!
URL:https://orca.bike/event/sta-trail-crew-location-tba-3/
LOCATION:Anchorage\, Alaska
CATEGORIES:Trail Work
ATTACH;FMTTYPE=image/jpeg:https://orca.bike/wp-content/uploads/2025/06/2410_image_506612120_122205288170254135_3830037347260540374_n.jpg
END:VEVENT
END:VCALENDAR