BEGIN:VCALENDAR
VERSION:2.0
PRODID:-//ORCA - Alaska Off-Road Cycling Alliance - ECPv6.15.20//NONSGML v1.0//EN
CALSCALE:GREGORIAN
METHOD:PUBLISH
X-ORIGINAL-URL:https://orca.bike
X-WR-CALDESC:Events for ORCA - Alaska Off-Road Cycling Alliance
REFRESH-INTERVAL;VALUE=DURATION:PT1H
X-Robots-Tag:noindex
X-PUBLISHED-TTL:PT1H
BEGIN:VTIMEZONE
TZID:America/Anchorage
BEGIN:DAYLIGHT
TZOFFSETFROM:-0900
TZOFFSETTO:-0800
TZNAME:AKDT
DTSTART:20250309T110000
END:DAYLIGHT
BEGIN:STANDARD
TZOFFSETFROM:-0800
TZOFFSETTO:-0900
TZNAME:AKST
DTSTART:20251102T100000
END:STANDARD
BEGIN:DAYLIGHT
TZOFFSETFROM:-0900
TZOFFSETTO:-0800
TZNAME:AKDT
DTSTART:20260308T110000
END:DAYLIGHT
BEGIN:STANDARD
TZOFFSETFROM:-0800
TZOFFSETTO:-0900
TZNAME:AKST
DTSTART:20261101T100000
END:STANDARD
BEGIN:DAYLIGHT
TZOFFSETFROM:-0900
TZOFFSETTO:-0800
TZNAME:AKDT
DTSTART:20270314T110000
END:DAYLIGHT
BEGIN:STANDARD
TZOFFSETFROM:-0800
TZOFFSETTO:-0900
TZNAME:AKST
DTSTART:20271107T100000
END:STANDARD
END:VTIMEZONE
BEGIN:VEVENT
DTSTART;TZID=America/Anchorage:20260612T084500
DTEND;TZID=America/Anchorage:20260614T160000
DTSTAMP:20260419T142847
CREATED:20260412T000059Z
LAST-MODIFIED:20260412T000059Z
UID:4836-1781253900-1781452800@orca.bike
SUMMARY:GSMBC Intermediate (Level 1) Coach Course Jun 12-14
DESCRIPTION:3-day GSMBC (Global Syndicate of Mountain Bike Coaches) Intermediate Coach course\, hosted at Hilltop! \nFor intermediate riders seeking to teach beginners to low-intermediate <a href="http://riders. \nThe” target=”_blank” title=”riders. \nThe”>riders. \nThe Intermediate Coach Course empowers participants to inspire and guide riders on beginner to intermediate terrain. This comprehensive curriculum focuses on essential coaching skills\, including effective communication\, risk management\, technical proficiency\, and advanced teaching <a href="http://techniques. \nGSMBC” target=”_blank” title=”techniques. \nGSMBC”>techniques. \nGSMBC is the newest evolution in mountain bike education and certification\, launched in 2025 by the founders of <a href="http://PMBIA. \nDetails” target=”_blank” title=”PMBIA. \nDetails”>PMBIA. \nDetails and signup here: <a href="https://www.gsmbc.pro/intermediatecoach \n” target=”_blank” title=”https://www.gsmbc.pro/intermediatecoach \n“>https://www.gsmbc.pro/intermediatecoach
URL:https://orca.bike/event/gsmbc-intermediate-level-1-coach-course-jun-12-14/
LOCATION:Hilltop Ski Area
END:VEVENT
BEGIN:VEVENT
DTSTART;TZID=America/Anchorage:20260613T100000
DTEND;TZID=America/Anchorage:20260613T160000
DTSTAMP:20260419T142847
CREATED:20260407T000832Z
LAST-MODIFIED:20260407T000832Z
UID:4740-1781344800-1781366400@orca.bike
SUMMARY:MTB for Women Festival
DESCRIPTION:EVERY BODY RIDES! Women+\, 18 and up\, of ALL fitness levels and ALL bike skills are welcome.If you don’t think this is for you\, we <a href="http://disagree. \nFor” target=”_blank” title=”disagree. \nFor”>disagree. \nFor those that want the “FULL SEND” experience\, you will participate in 2\, two-hour bike handling skills clinics and rides that are dialed in for your ability level.Lunch\, ice cream\, and bike mechanical classes are also on your agenda for the <a href="http://day. \nFor” target=”_blank” title=”day. \nFor”>day. \nFor those that want to “DROP IN” and just test the waters go on a social ride\, grab some swag + ice cream\, take in the bike mechanical classes\, check out the artisans\, merchants\, non-profits\, and sponsors in our Vendor Village. (excludes lunch and bike handling skills clinic/ride) \nGet all the info here: <a href="https://runsignup.com/Race/AK/Anchorage/MTB4WFestival \n” target=”_blank” title=”https://runsignup.com/Race/AK/Anchorage/MTB4WFestival \n“>https://runsignup.com/Race/AK/Anchorage/MTB4WFestival
URL:https://orca.bike/event/mtb-for-women-festival-2/
LOCATION:Hilltop Ski Area
ORGANIZER;CN="MTB for Women Festival%2C Alaska":MAILTO:noreply@facebookmail.com
END:VEVENT
BEGIN:VEVENT
DTSTART;TZID=America/Anchorage:20260613T120000
DTEND;TZID=America/Anchorage:20260613T160000
DTSTAMP:20260419T142847
CREATED:20260318T213040Z
LAST-MODIFIED:20260318T214426Z
UID:4593-1781352000-1781366400@orca.bike
SUMMARY:MTB for Women Festival
DESCRIPTION:Mountain bike festival for women.
URL:https://orca.bike/event/mtb-for-women-festival/
LOCATION:Hilltop\, Anchorage\, Alaska
ATTACH;FMTTYPE=image/png:https://orca.bike/wp-content/uploads/2026/03/4591_image_MTB-Log-Logo-e1614289489418.png
ORGANIZER;CN="Arctic Bicycle Club":MAILTO:noreply@facebookmail.com
END:VEVENT
BEGIN:VEVENT
DTSTART;TZID=America/Anchorage:20260613T160000
DTEND;TZID=America/Anchorage:20260613T210000
DTSTAMP:20260419T142847
CREATED:20260418T000026Z
LAST-MODIFIED:20260418T000026Z
UID:4847-1781366400-1781384400@orca.bike
SUMMARY:Foxy Beaver Gravel Grinder
DESCRIPTION:The Foxy Beaver Grinder is put on by Speedway Cycles and Backcountry Bike and Ski. This roughly 36mi event features the best gravel in the Valley. The name comes from our award sponsor\, the Foxy Beaver Taxidermy\, located along the route. The course has approximately 1200′ of climbing with a couple of pavement sections to catch your breath\, with a wonderfully challenging section of what I like to describe as vicious gravel with steep ups and downs. Come test your chops and enjoy the best bar in the Valley for food and drinks <a href="http://afterwards. \nThe” target=”_blank” title=”afterwards. \nThe”>afterwards. \nThe race starts at 4<a href="http://pm. \nMale” target=”_blank” title=”pm. \nMale”>pm. \nMale and Female categories only\, no age <a href="http://divisions. \nThere” target=”_blank” title=”divisions. \nThere”>divisions. \nThere are camp spots available. Please contact The Tug Bar/Goose Bay Inn for info. (907) 376-5720 \nWe suggest all racers carry bear spray for safety <a href="http://reasons. \nRace” target=”_blank” title=”reasons. \nRace”>reasons. \nRace Cost: $50. \nFoxy Beaver T-Shirts: $30\, and only available prior to May 24th.***Please note\, due to minimum quantities required\, as well as lead times\, we cannot promise our now legendary T shirts will be available if you register after May 24<a href="http://th.*** \nOnline:” target=”_blank” title=”th.*** \nOnline:”>th.*** \nOnline: Ends 6/10/2026 at 9<a href="http://PM.https://speedwaycycles.redpodium.com/foxy-beaver-grinder-2026 \nPickup” target=”_blank” title=”PM.https://speedwaycycles.redpodium.com/foxy-beaver-grinder-2026 \nPickup”>PM.https://speedwaycycles.redpodium.com/foxy-beaver-grinder-2026 \nPickup at Speedway Cycles on Thursday 6/11/2026 from Noon to 7 <a href="http://PM. \nRegistration” target=”_blank” title=”PM. \nRegistration”>PM. \nRegistration Day of: Maybe…but no need to wait until then! \nLocation: Tug Bar \nAddress: Mile 18.5 Knik Goose Bay Rd\, Wasilla\, AK 99654
URL:https://orca.bike/event/foxy-beaver-gravel-grinder-3/
LOCATION:Tug Bar Goose Bay Inn
ORGANIZER;CN="Speedway Cycles":MAILTO:noreply@facebookmail.com
END:VEVENT
BEGIN:VEVENT
DTSTART;TZID=America/Anchorage:20260616T183000
DTEND;TZID=America/Anchorage:20260616T210000
DTSTAMP:20260419T142847
CREATED:20260111T223837Z
LAST-MODIFIED:20260330T014952Z
UID:4313-1781634600-1781643600@orca.bike
SUMMARY:CMBR Parent Skills Clinic
DESCRIPTION:Sofia Petroni\, MTB Coach\, will be offering a CMBR adult skills clinics this pm. \nWHAT: \nA quick run through of the CMBR kids skills before the season begins. Brush up on your skills and learn some new ones so you can be ready to help out this season! \nSee this link for BICP skills demonstration videos:  \nsweeps.
URL:https://orca.bike/event/cmbr-parent-skills-clinic/
LOCATION:Mirror Lake Park Cir\, Chugiak\, AK 99567\, United States
ATTACH;FMTTYPE=image/jpeg:https://orca.bike/wp-content/uploads/2026/01/4313_image_614671857_1295709409258481_4514292885157486556_n.jpg
ORGANIZER;CN="Chugach Mountain Bike Riders":MAILTO:noreply@facebookmail.com
END:VEVENT
BEGIN:VEVENT
DTSTART;TZID=America/Anchorage:20260617T180000
DTEND;TZID=America/Anchorage:20260617T200000
DTSTAMP:20260419T142847
CREATED:20260318T213041Z
LAST-MODIFIED:20260318T214426Z
UID:4595-1781719200-1781726400@orca.bike
SUMMARY:MTB XCO 2
DESCRIPTION:Mountain bike cross-country race. Cat 4/Women 6 PM; Cat 1-3/Men 7 PM.
URL:https://orca.bike/event/mtb-xco-2/
LOCATION:Hilltop\, Anchorage\, Alaska
ATTACH;FMTTYPE=image/png:https://orca.bike/wp-content/uploads/2026/03/4591_image_MTB-Log-Logo-e1614289489418.png
ORGANIZER;CN="Arctic Bicycle Club":MAILTO:noreply@facebookmail.com
END:VEVENT
BEGIN:VEVENT
DTSTART;TZID=America/Anchorage:20260618T183000
DTEND;TZID=America/Anchorage:20260618T203000
DTSTAMP:20260419T142847
CREATED:20260111T223837Z
LAST-MODIFIED:20260330T014952Z
UID:4314-1781807400-1781814600@orca.bike
SUMMARY:2026 CMBR Youth Bike Checks
DESCRIPTION:Free youth bike checks Thurday June 18th\, 6:30-8:30pm at Mirror Lake adjustments. \nYouth participating in CMBR kids are required to have their bikes safety checked before riding with the club. If you are unable to bring your child\, their bike and their helmet to this Tuesday’s free safety checks you will need to bring it to a shop for a safety check\, this usually runs $50-$100. \nYouth from the community are also invited to bring their bikes for a free safety evening. \nCHECK IN: First\, check in and pick up your Bike Safety properly. \nBIKE REPAIRS: If your child’s bike needs repairs\, and not just adjustments\, you will need to bring it to a bike shop before riding with the club. Most shops are booked out one to two weeks for checks.
URL:https://orca.bike/event/2026-cmbr-youth-bike-checks/
LOCATION:Mirror Lake\, Alaska
ATTACH;FMTTYPE=image/jpeg:https://orca.bike/wp-content/uploads/2026/01/4314_image_614210642_1295710149258407_3532323581951265339_n.jpg
ORGANIZER;CN="Chugach Mountain Bike Riders":MAILTO:noreply@facebookmail.com
END:VEVENT
BEGIN:VEVENT
DTSTART;TZID=America/Anchorage:20260619T190000
DTEND;TZID=America/Anchorage:20260619T210000
DTSTAMP:20260419T142847
CREATED:20260318T213721Z
LAST-MODIFIED:20260318T214433Z
UID:4615-1781895600-1781902800@orca.bike
SUMMARY:Posies Stage 1 - Potter Hill Climb
DESCRIPTION:Women’s stage race – Stage 1.
URL:https://orca.bike/event/posies-stage-1-potter-hill-climb/
LOCATION:Potter Mail Boxes\, Anchorage\, Alaska
ATTACH;FMTTYPE=image/png:https://orca.bike/wp-content/uploads/2026/03/4605_image_Arctic-Road-White2-background.png
ORGANIZER;CN="Arctic Bicycle Club":MAILTO:noreply@facebookmail.com
END:VEVENT
BEGIN:VEVENT
DTSTART;TZID=America/Anchorage:20260620T120000
DTEND;TZID=America/Anchorage:20260620T150000
DTSTAMP:20260419T142847
CREATED:20260318T213722Z
LAST-MODIFIED:20260318T214433Z
UID:4617-1781956800-1781967600@orca.bike
SUMMARY:Posies Stage 2 - ERNF Time Trial
DESCRIPTION:Women’s stage race – Stage 2.
URL:https://orca.bike/event/posies-stage-2-ernf-time-trial/
LOCATION:ERNF Campground Lot\, Anchorage\, Alaska
ATTACH;FMTTYPE=image/png:https://orca.bike/wp-content/uploads/2026/03/4605_image_Arctic-Road-White2-background.png
ORGANIZER;CN="Arctic Bicycle Club":MAILTO:noreply@facebookmail.com
END:VEVENT
BEGIN:VEVENT
DTSTART;TZID=America/Anchorage:20260620T180000
DTEND;TZID=America/Anchorage:20260620T200000
DTSTAMP:20260419T142847
CREATED:20260318T213722Z
LAST-MODIFIED:20260318T214440Z
UID:4619-1781978400-1781985600@orca.bike
SUMMARY:Posies Stage 3 - Viking Road Circuit Race
DESCRIPTION:Women’s stage race – Stage 3.
URL:https://orca.bike/event/posies-stage-3-viking-road-circuit-race/
LOCATION:W.J. Hernandez Fish Hatchery\, Anchorage\, Alaska
ATTACH;FMTTYPE=image/png:https://orca.bike/wp-content/uploads/2026/03/4605_image_Arctic-Road-White2-background.png
ORGANIZER;CN="Arctic Bicycle Club":MAILTO:noreply@facebookmail.com
END:VEVENT
BEGIN:VEVENT
DTSTART;TZID=America/Anchorage:20260624T190000
DTEND;TZID=America/Anchorage:20260624T210000
DTSTAMP:20260419T142847
CREATED:20260318T213741Z
LAST-MODIFIED:20260318T214447Z
UID:4637-1782327600-1782334800@orca.bike
SUMMARY:Hillside Helluva (Grail Cup)
DESCRIPTION:Mix of gravel\, trail and road. Grail Cup event.
URL:https://orca.bike/event/hillside-helluva-grail-cup/
LOCATION:Hilltop\, Anchorage\, Alaska
ATTACH;FMTTYPE=image/png:https://orca.bike/wp-content/uploads/2026/03/4631_image_Arctic-Gravel-e1747108606283.png
ORGANIZER;CN="Arctic Bicycle Club":MAILTO:noreply@facebookmail.com
END:VEVENT
BEGIN:VEVENT
DTSTART;TZID=America/Anchorage:20260627T120000
DTEND;TZID=America/Anchorage:20260627T160000
DTSTAMP:20260419T142847
CREATED:20260318T213742Z
LAST-MODIFIED:20260318T214447Z
UID:4638-1782561600-1782576000@orca.bike
SUMMARY:Talkeetna Grinder
DESCRIPTION:Gravel race in Talkeetna.
URL:https://orca.bike/event/talkeetna-grinder-2/
LOCATION:Yoder Rd at Salmon Aly Dr\, Talkeetna\, Alaska
ATTACH;FMTTYPE=image/png:https://orca.bike/wp-content/uploads/2026/03/4631_image_Arctic-Gravel-e1747108606283.png
ORGANIZER;CN="Arctic Bicycle Club":MAILTO:noreply@facebookmail.com
END:VEVENT
BEGIN:VEVENT
DTSTART;TZID=America/Anchorage:20260701T180000
DTEND;TZID=America/Anchorage:20260701T200000
DTSTAMP:20260419T142847
CREATED:20260318T213041Z
LAST-MODIFIED:20260318T214426Z
UID:4596-1782928800-1782936000@orca.bike
SUMMARY:MTB XCO 3
DESCRIPTION:Mountain bike cross-country race. Cat 4/Women 6 PM; Cat 1-3/Men 7 PM.
URL:https://orca.bike/event/mtb-xco-3/
LOCATION:Kincaid Jodhpur\, Anchorage\, Alaska
ATTACH;FMTTYPE=image/png:https://orca.bike/wp-content/uploads/2026/03/4591_image_MTB-Log-Logo-e1614289489418.png
ORGANIZER;CN="Arctic Bicycle Club":MAILTO:noreply@facebookmail.com
END:VEVENT
BEGIN:VEVENT
DTSTART;TZID=America/Anchorage:20260708T190000
DTEND;TZID=America/Anchorage:20260708T210000
DTSTAMP:20260419T142847
CREATED:20260318T213723Z
LAST-MODIFIED:20260318T214440Z
UID:4621-1783537200-1783544400@orca.bike
SUMMARY:Eagle River Mile Hi Road Race
DESCRIPTION:Hilly road race.
URL:https://orca.bike/event/eagle-river-mile-hi-road-race/
LOCATION:ERNF Campground Lot\, Anchorage\, Alaska
ATTACH;FMTTYPE=image/png:https://orca.bike/wp-content/uploads/2026/03/4605_image_Arctic-Road-White2-background.png
ORGANIZER;CN="Arctic Bicycle Club":MAILTO:noreply@facebookmail.com
END:VEVENT
BEGIN:VEVENT
DTSTART;TZID=America/Anchorage:20260708T191500
DTEND;TZID=America/Anchorage:20260708T211500
DTSTAMP:20260419T142847
CREATED:20260318T213724Z
LAST-MODIFIED:20260318T214440Z
UID:4622-1783538100-1783545300@orca.bike
SUMMARY:Eagle River North Fork Time Trial
DESCRIPTION:Road time trial.
URL:https://orca.bike/event/eagle-river-north-fork-time-trial/
LOCATION:ERNF Campground Lot\, Anchorage\, Alaska
ATTACH;FMTTYPE=image/png:https://orca.bike/wp-content/uploads/2026/03/4605_image_Arctic-Road-White2-background.png
ORGANIZER;CN="Arctic Bicycle Club":MAILTO:noreply@facebookmail.com
END:VEVENT
BEGIN:VEVENT
DTSTART;TZID=America/Anchorage:20260710T000000
DTEND;TZID=America/Anchorage:20260711T000000
DTSTAMP:20260419T142847
CREATED:20260319T024321Z
LAST-MODIFIED:20260319T024701Z
UID:4662-1783641600-1783728000@orca.bike
SUMMARY:The Fireweed – Racing Across Alaska
DESCRIPTION:Ride 200 or 400 miles with your team or solo across Alaska\, in support of Alaska’s youth. The Fireweed is an iconic cycling race featuring both a 200-mile and 400-mile course open to solo riders and teams. Register at www.thefireweed.org.
URL:https://orca.bike/event/the-fireweed-racing-across-alaska/
LOCATION:Mat-Su Borough Recreation and Library Services
ATTACH;FMTTYPE=image/jpeg:https://orca.bike/wp-content/uploads/2026/03/631410898_18361415449206233_2370278304940180415_n.jpg
END:VEVENT
BEGIN:VEVENT
DTSTART;TZID=America/Anchorage:20260715T183000
DTEND;TZID=America/Anchorage:20260715T203000
DTSTAMP:20260419T142847
CREATED:20260318T213042Z
LAST-MODIFIED:20260318T214426Z
UID:4598-1784140200-1784147400@orca.bike
SUMMARY:MTB XCO 4
DESCRIPTION:Mountain bike cross-country race. Cat 4/Women 6:30 PM; Cat 1-3/Men 7:30 PM.
URL:https://orca.bike/event/mtb-xco-4/
LOCATION:Mirror Lake Trails\, Anchorage\, Alaska
ATTACH;FMTTYPE=image/png:https://orca.bike/wp-content/uploads/2026/03/4591_image_MTB-Log-Logo-e1614289489418.png
ORGANIZER;CN="Arctic Bicycle Club":MAILTO:noreply@facebookmail.com
END:VEVENT
BEGIN:VEVENT
DTSTART;TZID=America/Anchorage:20260722T190000
DTEND;TZID=America/Anchorage:20260722T210000
DTSTAMP:20260419T142847
CREATED:20260318T213724Z
LAST-MODIFIED:20260318T214440Z
UID:4623-1784746800-1784754000@orca.bike
SUMMARY:TOA 1 - Viking Drive Circuit Race
DESCRIPTION:Tour of Anchorage Stage 1 – road stage race.
URL:https://orca.bike/event/toa-1-viking-drive-circuit-race/
LOCATION:Hernandez Fish Hatchery\, Anchorage\, Alaska
ATTACH;FMTTYPE=image/png:https://orca.bike/wp-content/uploads/2026/03/4605_image_Arctic-Road-White2-background.png
ORGANIZER;CN="Arctic Bicycle Club":MAILTO:noreply@facebookmail.com
END:VEVENT
BEGIN:VEVENT
DTSTART;TZID=America/Anchorage:20260723T190000
DTEND;TZID=America/Anchorage:20260723T210000
DTSTAMP:20260419T142847
CREATED:20260318T213725Z
LAST-MODIFIED:20260318T214440Z
UID:4625-1784833200-1784840400@orca.bike
SUMMARY:TOA 2 - Elmendorf Road Race
DESCRIPTION:Tour of Anchorage Stage 2 – road stage race.
URL:https://orca.bike/event/toa-2-elmendorf-road-race/
LOCATION:JBER Fairchild Parking Lot\, Anchorage\, Alaska
ATTACH;FMTTYPE=image/png:https://orca.bike/wp-content/uploads/2026/03/4605_image_Arctic-Road-White2-background.png
ORGANIZER;CN="Arctic Bicycle Club":MAILTO:noreply@facebookmail.com
END:VEVENT
BEGIN:VEVENT
DTSTART;TZID=America/Anchorage:20260724T084500
DTEND;TZID=America/Anchorage:20260726T160000
DTSTAMP:20260419T142847
CREATED:20260412T000101Z
LAST-MODIFIED:20260412T000101Z
UID:4838-1784882700-1785081600@orca.bike
SUMMARY:GSMBC Intermediate (Level 1) Coach Course Jul 24-26
DESCRIPTION:3-day GSMBC (Global Syndicate of Mountain Bike Coaches) Intermediate Coach course\, hosted at Hilltop! \nFor intermediate riders seeking to teach beginners to low-intermediate <a href="http://riders. \nThe” target=”_blank” title=”riders. \nThe”>riders. \nThe Intermediate Coach Course empowers participants to inspire and guide riders on beginner to intermediate terrain. This comprehensive curriculum focuses on essential coaching skills\, including effective communication\, risk management\, technical proficiency\, and advanced teaching <a href="http://techniques. \nGSMBC” target=”_blank” title=”techniques. \nGSMBC”>techniques. \nGSMBC is the newest evolution in mountain bike education and certification\, launched in 2025 by the founders of <a href="http://PMBIA. \nDetails” target=”_blank” title=”PMBIA. \nDetails”>PMBIA. \nDetails and signup here: <a href="https://www.gsmbc.pro/intermediatecoach \n” target=”_blank” title=”https://www.gsmbc.pro/intermediatecoach \n“>https://www.gsmbc.pro/intermediatecoach
URL:https://orca.bike/event/gsmbc-intermediate-level-1-coach-course-jul-24-26/
LOCATION:Hilltop Ski Area
END:VEVENT
BEGIN:VEVENT
DTSTART;TZID=America/Anchorage:20260724T190000
DTEND;TZID=America/Anchorage:20260724T210000
DTSTAMP:20260419T142847
CREATED:20260318T213726Z
LAST-MODIFIED:20260318T214440Z
UID:4627-1784919600-1784926800@orca.bike
SUMMARY:TOA 3 - Kincaid Road Race
DESCRIPTION:Tour of Anchorage Stage 3 – road stage race.
URL:https://orca.bike/event/toa-3-kincaid-road-race/
LOCATION:Sand Lake Pullout\, Anchorage\, Alaska
ATTACH;FMTTYPE=image/png:https://orca.bike/wp-content/uploads/2026/03/4605_image_Arctic-Road-White2-background.png
ORGANIZER;CN="Arctic Bicycle Club":MAILTO:noreply@facebookmail.com
END:VEVENT
BEGIN:VEVENT
DTSTART;TZID=America/Anchorage:20260725T120000
DTEND;TZID=America/Anchorage:20260725T150000
DTSTAMP:20260419T142847
CREATED:20260318T213726Z
LAST-MODIFIED:20260318T214440Z
UID:4628-1784980800-1784991600@orca.bike
SUMMARY:TOA 4 - E Knik River Road Race
DESCRIPTION:Tour of Anchorage Stage 4 – road stage race.
URL:https://orca.bike/event/toa-4-e-knik-river-road-race/
LOCATION:End of E Knik River Road\, Anchorage\, Alaska
ATTACH;FMTTYPE=image/png:https://orca.bike/wp-content/uploads/2026/03/4605_image_Arctic-Road-White2-background.png
ORGANIZER;CN="Arctic Bicycle Club":MAILTO:noreply@facebookmail.com
END:VEVENT
BEGIN:VEVENT
DTSTART;TZID=America/Anchorage:20260729T180000
DTEND;TZID=America/Anchorage:20260729T200000
DTSTAMP:20260419T142847
CREATED:20260318T213043Z
LAST-MODIFIED:20260318T214426Z
UID:4600-1785348000-1785355200@orca.bike
SUMMARY:MTB XCO 5
DESCRIPTION:Mountain bike cross-country race. Cat 4/Women 6 PM; Cat 1-3/Men 7 PM.
URL:https://orca.bike/event/mtb-xco-5/
LOCATION:Hilltop\, Anchorage\, Alaska
ATTACH;FMTTYPE=image/png:https://orca.bike/wp-content/uploads/2026/03/4591_image_MTB-Log-Logo-e1614289489418.png
ORGANIZER;CN="Arctic Bicycle Club":MAILTO:noreply@facebookmail.com
END:VEVENT
BEGIN:VEVENT
DTSTART;TZID=America/Anchorage:20260801T090000
DTEND;TZID=America/Anchorage:20260801T120000
DTSTAMP:20260419T142847
CREATED:20260213T000005Z
LAST-MODIFIED:20260213T000005Z
UID:4442-1785574800-1785585600@orca.bike
SUMMARY:Soggy Bottom 100!
DESCRIPTION:We’ve got a lot of fun in store for you this year! Details to come\, so stay tuned!  \nThis is a self-supported race that covers 100+ miles through the most scenic Alaska backcountry. You’ll start on Main Street in historic Hope\, Alaska and ride through Resurrection Pass to Cooper Landing. From Cooper Landing you’ll ride back toward Res Pass thru Devil’s Pass. And the final leg will be from the Devil’s Pass Trailhead back to Hope\, where you’ll finish on Main Street among a cheering crowd of your biggest fans!  \nThe finisher’s party will continue until the last person crosses the finish line\, and includes complimentary burgers and brew!  \nWant to get involved? We need volunteers at checkpoints. Get in touch and we’ll get you plugged in.
URL:https://orca.bike/event/soggy-bottom-100/
LOCATION:Hope\, AK
ORGANIZER;CN="Soggy Bottom 100":MAILTO:noreply@facebookmail.com
END:VEVENT
BEGIN:VEVENT
DTSTART;TZID=America/Anchorage:20260805T180000
DTEND;TZID=America/Anchorage:20260805T200000
DTSTAMP:20260419T142847
CREATED:20260318T213043Z
LAST-MODIFIED:20260318T214426Z
UID:4601-1785952800-1785960000@orca.bike
SUMMARY:MTB XCO 6
DESCRIPTION:Mountain bike cross-country race. Cat 4/Women 6 PM; Cat 1-3/Men 7 PM.
URL:https://orca.bike/event/mtb-xco-6/
LOCATION:Kincaid Stadium\, Anchorage\, Alaska
ATTACH;FMTTYPE=image/png:https://orca.bike/wp-content/uploads/2026/03/4591_image_MTB-Log-Logo-e1614289489418.png
ORGANIZER;CN="Arctic Bicycle Club":MAILTO:noreply@facebookmail.com
END:VEVENT
BEGIN:VEVENT
DTSTART;TZID=America/Anchorage:20260812T180000
DTEND;TZID=America/Anchorage:20260812T200000
DTSTAMP:20260419T142847
CREATED:20260318T213044Z
LAST-MODIFIED:20260318T214426Z
UID:4602-1786557600-1786564800@orca.bike
SUMMARY:MTB XCO 7
DESCRIPTION:Mountain bike cross-country race. Cat 4/Women 6 PM; Cat 1-3/Men 7 PM.
URL:https://orca.bike/event/mtb-xco-7/
LOCATION:Hilltop\, Anchorage\, Alaska
ATTACH;FMTTYPE=image/png:https://orca.bike/wp-content/uploads/2026/03/4591_image_MTB-Log-Logo-e1614289489418.png
ORGANIZER;CN="Arctic Bicycle Club":MAILTO:noreply@facebookmail.com
END:VEVENT
END:VCALENDAR